BEGIN:VCALENDAR
VERSION:2.0
PRODID:-//mjc mosa&iuml;que centre social - ECPv6.15.17.1//NONSGML v1.0//EN
CALSCALE:GREGORIAN
METHOD:PUBLISH
X-WR-CALNAME:mjc mosa&iuml;que centre social
X-ORIGINAL-URL:https://mjc-mosaique.fr
X-WR-CALDESC:Évènements pour mjc mosa&iuml;que centre social
REFRESH-INTERVAL;VALUE=DURATION:PT1H
X-Robots-Tag:noindex
X-PUBLISHED-TTL:PT1H
BEGIN:VTIMEZONE
TZID:UTC
BEGIN:STANDARD
TZOFFSETFROM:+0000
TZOFFSETTO:+0000
TZNAME:UTC
DTSTART:20250101T000000
END:STANDARD
END:VTIMEZONE
BEGIN:VEVENT
DTSTART;TZID=UTC:20260422T133000
DTEND;TZID=UTC:20260422T173000
DTSTAMP:20260422T085617
CREATED:20260403T144701Z
LAST-MODIFIED:20260403T144701Z
UID:4093-1776864600-1776879000@mjc-mosaique.fr
SUMMARY:La M'IJ ! Maison de l'Information et de la Jeunesse
DESCRIPTION:Dans l’annexe de la MJC Mosaïque-centre social\, nous proposons au public de jeunes adultes de 16 à 30 ans\, un espace d’accueil\, d’écoute\, d’information\, d’orientation et d’accompagnement : la M’IJ. \nVous pourrez y retrouver un accompagnement individuel\, ateliers collectif\, documentations\, ateliers de sensibilisations\, …. \nRenseignements auprès de l’animateur information jeunesse : M.TAMRABET Malik : 07.81.56.40.08 / mtamrabet@mjc-mosaique.fr
URL:https://mjc-mosaique.fr/event/la-mij-maison-de-linformation-et-de-la-jeunesse-3/
LOCATION:MJC Mosaïque\, 99 TER Rue Des Jardins Fleuris\, POMPEY\, 54340\, France
CATEGORIES:JEUNESSE
END:VEVENT
BEGIN:VEVENT
DTSTART;TZID=UTC:20260422T140000
DTEND;TZID=UTC:20260422T160000
DTSTAMP:20260422T085617
CREATED:20260331T125507Z
LAST-MODIFIED:20260331T125507Z
UID:3962-1776866400-1776873600@mjc-mosaique.fr
SUMMARY:Atelier "découverte de l'Equitation"
DESCRIPTION:Au centre Hippique de Pixecourt à Malzeville \nDépart à 13h30 de la MJC\, retour à 17h \nAprès midi découverte de l’équitation (Adultes et enfants à partir de 3 ans) : voltige (gym à cheval) et pansage (brossage\, curer les sabots) avec visite des écuries. \nTarifs 3€\, 6€\, 9€ selon quotient individuel
URL:https://mjc-mosaique.fr/event/atelier-decouverte-de-lequitation/
LOCATION:MJC Mosaïque\, 99 TER Rue Des Jardins Fleuris\, POMPEY\, 54340\, France
CATEGORIES:FAMILLE
END:VEVENT
BEGIN:VEVENT
DTSTART;TZID=UTC:20260422T140000
DTEND;TZID=UTC:20260422T180000
DTSTAMP:20260422T085617
CREATED:20260403T143549Z
LAST-MODIFIED:20260403T143549Z
UID:4083-1776866400-1776880800@mjc-mosaique.fr
SUMMARY:Accueil jeunes "Festival du numérique"
DESCRIPTION:11-17 ans – places limitées – inscription obligatoire \nFiche d’inscription et d’adhésion obligatoire de 5 € pour la saison 2025/2026
URL:https://mjc-mosaique.fr/event/accueil-jeunes-festival-du-numerique/
LOCATION:MJC Mosaïque\, 99 TER Rue Des Jardins Fleuris\, POMPEY\, 54340\, France
CATEGORIES:JEUNESSE
END:VEVENT
BEGIN:VEVENT
DTSTART;TZID=UTC:20260423T090000
DTEND;TZID=UTC:20260423T120000
DTSTAMP:20260422T085617
CREATED:20260331T134722Z
LAST-MODIFIED:20260331T134722Z
UID:3981-1776934800-1776945600@mjc-mosaique.fr
SUMMARY:Tous au jardin !
DESCRIPTION:Chaque mardi et jeudi\, les membres du collectif se retrouvent au « jardin du Meret » pour faire vivre le projet. Lieu d’échanges\, de convivialité\, de créativité et de solidarité intergénérationnel. \nOUVERT À TOUS ! \nAdhésion obligatoire
URL:https://mjc-mosaique.fr/event/tous-au-jardin-19/
LOCATION:MJC Mosaïque\, 99 TER Rue Des Jardins Fleuris\, POMPEY\, 54340\, France
CATEGORIES:ANIMATION LOCALE
END:VEVENT
BEGIN:VEVENT
DTSTART;TZID=UTC:20260423T091000
DTEND;TZID=UTC:20260423T124500
DTSTAMP:20260422T085617
CREATED:20260331T130144Z
LAST-MODIFIED:20260331T130201Z
UID:3964-1776935400-1776948300@mjc-mosaique.fr
SUMMARY:Ciné en Famille
DESCRIPTION:Visite guidée du cinéma Caméo Commanderie à 10h\, suivi de la projection du film documentaire « Le chant des forêts ». \nTrajet aller-retour en train de la gare de Pompey à la gare de Nancy. \nRdv à la gare de Pompey à 9h10 retour prévu à 12h45.
URL:https://mjc-mosaique.fr/event/cine-en-famille/
LOCATION:MJC Mosaïque\, 99 TER Rue Des Jardins Fleuris\, POMPEY\, 54340\, France
CATEGORIES:FAMILLE
END:VEVENT
BEGIN:VEVENT
DTSTART;TZID=UTC:20260423T140000
DTEND;TZID=UTC:20260423T180000
DTSTAMP:20260422T085617
CREATED:20260403T143641Z
LAST-MODIFIED:20260403T143641Z
UID:4085-1776952800-1776967200@mjc-mosaique.fr
SUMMARY:Accueil jeunes "Tournoi de Play"
DESCRIPTION:11-17 ans \nFiche d’inscription et d’adhésion obligatoire de 5 € pour la saison 2025/2026
URL:https://mjc-mosaique.fr/event/accueil-jeunes-tournoi-de-play/
LOCATION:MJC Mosaïque\, 99 TER Rue Des Jardins Fleuris\, POMPEY\, 54340\, France
CATEGORIES:JEUNESSE
END:VEVENT
BEGIN:VEVENT
DTSTART;TZID=UTC:20260424T090000
DTEND;TZID=UTC:20260424T180000
DTSTAMP:20260422T085617
CREATED:20260403T143925Z
LAST-MODIFIED:20260403T143925Z
UID:4087-1777021200-1777053600@mjc-mosaique.fr
SUMMARY:Accueil jeunes "Sortie Calypso" en Allemagne
DESCRIPTION:Participation de 12€. Places limitées\, inscription et autorisation de sortie du territoire obligatoire. \n11-17 ans \nFiche d’inscription et d’adhésion obligatoire de 5 € pour la saison 2025/2026
URL:https://mjc-mosaique.fr/event/accueil-jeunes-sortie-calypso-en-allemagne/
LOCATION:MJC Mosaïque\, 99 TER Rue Des Jardins Fleuris\, POMPEY\, 54340\, France
CATEGORIES:JEUNESSE
END:VEVENT
BEGIN:VEVENT
DTSTART;TZID=UTC:20260427T100000
DTEND;TZID=UTC:20260427T113000
DTSTAMP:20260422T085617
CREATED:20260331T124214Z
LAST-MODIFIED:20260331T124214Z
UID:3958-1777284000-1777289400@mjc-mosaique.fr
SUMMARY:Atelier Bien-être\, Un temps pour soi
DESCRIPTION:Avec Gwenaelle MADIER\, sophrologue \nUn temps pour soi\, pour se ressourcer\, gérer son stress et cultiver le positif ! \nGratuit. Adhésion et inscription obligatoires\, nombre de places limité.
URL:https://mjc-mosaique.fr/event/atelier-bien-etre-un-temps-pour-soi-2/
LOCATION:MJC Mosaïque\, 99 TER Rue Des Jardins Fleuris\, POMPEY\, 54340\, France
CATEGORIES:FAMILLE
END:VEVENT
BEGIN:VEVENT
DTSTART;TZID=UTC:20260428T090000
DTEND;TZID=UTC:20260428T120000
DTSTAMP:20260422T085617
CREATED:20260331T134753Z
LAST-MODIFIED:20260331T134753Z
UID:3983-1777366800-1777377600@mjc-mosaique.fr
SUMMARY:Tous au jardin !
DESCRIPTION:Chaque mardi et jeudi\, les membres du collectif se retrouvent au « jardin du Meret » pour faire vivre le projet. Lieu d’échanges\, de convivialité\, de créativité et de solidarité intergénérationnel. \nOUVERT À TOUS ! \nAdhésion obligatoire
URL:https://mjc-mosaique.fr/event/tous-au-jardin-20/
LOCATION:MJC Mosaïque\, 99 TER Rue Des Jardins Fleuris\, POMPEY\, 54340\, France
CATEGORIES:ANIMATION LOCALE
END:VEVENT
BEGIN:VEVENT
DTSTART;TZID=UTC:20260429T133000
DTEND;TZID=UTC:20260429T173000
DTSTAMP:20260422T085617
CREATED:20260403T144734Z
LAST-MODIFIED:20260403T144734Z
UID:4095-1777469400-1777483800@mjc-mosaique.fr
SUMMARY:La M'IJ ! Maison de l'Information et de la Jeunesse
DESCRIPTION:Dans l’annexe de la MJC Mosaïque-centre social\, nous proposons au public de jeunes adultes de 16 à 30 ans\, un espace d’accueil\, d’écoute\, d’information\, d’orientation et d’accompagnement : la M’IJ. \nVous pourrez y retrouver un accompagnement individuel\, ateliers collectif\, documentations\, ateliers de sensibilisations\, …. \nRenseignements auprès de l’animateur information jeunesse : M.TAMRABET Malik : 07.81.56.40.08 / mtamrabet@mjc-mosaique.fr
URL:https://mjc-mosaique.fr/event/la-mij-maison-de-linformation-et-de-la-jeunesse-4/
LOCATION:MJC Mosaïque\, 99 TER Rue Des Jardins Fleuris\, POMPEY\, 54340\, France
CATEGORIES:JEUNESSE
END:VEVENT
BEGIN:VEVENT
DTSTART;TZID=UTC:20260429T140000
DTEND;TZID=UTC:20260429T160000
DTSTAMP:20260422T085617
CREATED:20260403T135611Z
LAST-MODIFIED:20260403T135611Z
UID:4031-1777471200-1777478400@mjc-mosaique.fr
SUMMARY:Accompagnement Scolaire des Collégiens
DESCRIPTION:Nous proposons aux collégiens un accompagnement à la scolarité et une participation à des projets culturels \nFiche d’inscription et d’adhésion obligatoire de 5 € pour la saison 2025/2026
URL:https://mjc-mosaique.fr/event/accompagnement-scolaire-des-collegiens-3/
LOCATION:MJC Mosaïque\, 99 TER Rue Des Jardins Fleuris\, POMPEY\, 54340\, France
CATEGORIES:JEUNESSE
END:VEVENT
BEGIN:VEVENT
DTSTART;TZID=UTC:20260430T090000
DTEND;TZID=UTC:20260430T120000
DTSTAMP:20260422T085617
CREATED:20260331T134816Z
LAST-MODIFIED:20260331T134816Z
UID:3985-1777539600-1777550400@mjc-mosaique.fr
SUMMARY:Tous au jardin !
DESCRIPTION:Chaque mardi et jeudi\, les membres du collectif se retrouvent au « jardin du Meret » pour faire vivre le projet. Lieu d’échanges\, de convivialité\, de créativité et de solidarité intergénérationnel. \nOUVERT À TOUS ! \nAdhésion obligatoire
URL:https://mjc-mosaique.fr/event/tous-au-jardin-21/
LOCATION:MJC Mosaïque\, 99 TER Rue Des Jardins Fleuris\, POMPEY\, 54340\, France
CATEGORIES:ANIMATION LOCALE
END:VEVENT
END:VCALENDAR