BEGIN:VCALENDAR
VERSION:2.0
PRODID:-//mjc mosa&iuml;que centre social - ECPv6.15.17.1//NONSGML v1.0//EN
CALSCALE:GREGORIAN
METHOD:PUBLISH
X-ORIGINAL-URL:https://mjc-mosaique.fr
X-WR-CALDESC:Évènements pour mjc mosa&iuml;que centre social
REFRESH-INTERVAL;VALUE=DURATION:PT1H
X-Robots-Tag:noindex
X-PUBLISHED-TTL:PT1H
BEGIN:VTIMEZONE
TZID:UTC
BEGIN:STANDARD
TZOFFSETFROM:+0000
TZOFFSETTO:+0000
TZNAME:UTC
DTSTART:20250101T000000
END:STANDARD
END:VTIMEZONE
BEGIN:VEVENT
DTSTART;TZID=UTC:20260422T140000
DTEND;TZID=UTC:20260422T160000
DTSTAMP:20260422T090001
CREATED:20260331T125507Z
LAST-MODIFIED:20260331T125507Z
UID:3962-1776866400-1776873600@mjc-mosaique.fr
SUMMARY:Atelier "découverte de l'Equitation"
DESCRIPTION:Au centre Hippique de Pixecourt à Malzeville \nDépart à 13h30 de la MJC\, retour à 17h \nAprès midi découverte de l’équitation (Adultes et enfants à partir de 3 ans) : voltige (gym à cheval) et pansage (brossage\, curer les sabots) avec visite des écuries. \nTarifs 3€\, 6€\, 9€ selon quotient individuel
URL:https://mjc-mosaique.fr/event/atelier-decouverte-de-lequitation/
LOCATION:MJC Mosaïque\, 99 TER Rue Des Jardins Fleuris\, POMPEY\, 54340\, France
CATEGORIES:FAMILLE
END:VEVENT
BEGIN:VEVENT
DTSTART;TZID=UTC:20260423T091000
DTEND;TZID=UTC:20260423T124500
DTSTAMP:20260422T090001
CREATED:20260331T130144Z
LAST-MODIFIED:20260331T130201Z
UID:3964-1776935400-1776948300@mjc-mosaique.fr
SUMMARY:Ciné en Famille
DESCRIPTION:Visite guidée du cinéma Caméo Commanderie à 10h\, suivi de la projection du film documentaire « Le chant des forêts ». \nTrajet aller-retour en train de la gare de Pompey à la gare de Nancy. \nRdv à la gare de Pompey à 9h10 retour prévu à 12h45.
URL:https://mjc-mosaique.fr/event/cine-en-famille/
LOCATION:MJC Mosaïque\, 99 TER Rue Des Jardins Fleuris\, POMPEY\, 54340\, France
CATEGORIES:FAMILLE
END:VEVENT
BEGIN:VEVENT
DTSTART;TZID=UTC:20260427T100000
DTEND;TZID=UTC:20260427T113000
DTSTAMP:20260422T090001
CREATED:20260331T124214Z
LAST-MODIFIED:20260331T124214Z
UID:3958-1777284000-1777289400@mjc-mosaique.fr
SUMMARY:Atelier Bien-être\, Un temps pour soi
DESCRIPTION:Avec Gwenaelle MADIER\, sophrologue \nUn temps pour soi\, pour se ressourcer\, gérer son stress et cultiver le positif ! \nGratuit. Adhésion et inscription obligatoires\, nombre de places limité.
URL:https://mjc-mosaique.fr/event/atelier-bien-etre-un-temps-pour-soi-2/
LOCATION:MJC Mosaïque\, 99 TER Rue Des Jardins Fleuris\, POMPEY\, 54340\, France
CATEGORIES:FAMILLE
END:VEVENT
END:VCALENDAR