BEGIN:VCALENDAR
VERSION:2.0
PRODID:-//mjc mosa&iuml;que centre social - ECPv6.15.17.1//NONSGML v1.0//EN
CALSCALE:GREGORIAN
METHOD:PUBLISH
X-ORIGINAL-URL:https://mjc-mosaique.fr
X-WR-CALDESC:Évènements pour mjc mosa&iuml;que centre social
REFRESH-INTERVAL;VALUE=DURATION:PT1H
X-Robots-Tag:noindex
X-PUBLISHED-TTL:PT1H
BEGIN:VTIMEZONE
TZID:UTC
BEGIN:STANDARD
TZOFFSETFROM:+0000
TZOFFSETTO:+0000
TZNAME:UTC
DTSTART:20250101T000000
END:STANDARD
END:VTIMEZONE
BEGIN:VEVENT
DTSTART;TZID=UTC:20260404T190000
DTEND;TZID=UTC:20260404T230000
DTSTAMP:20260422T122436
CREATED:20260207T202605Z
LAST-MODIFIED:20260316T103930Z
UID:2862-1775329200-1775343600@mjc-mosaique.fr
SUMMARY:Soirée Espagnole
DESCRIPTION:Soirée spectacle avec la compagnie de danse flamenca « A Compas ! » \nVibrez au son du flamenco le samedi 4 avril 2026. \nUn temps culturel avec une exposition sur l’histoire du flamenco au collège Jean LURCAT de Frouard à partir de 19h30. \nPuis une Soirée Flamenca à la MJC Mosaïque – centre social à 20h30 suivi d’une initiation de danse\, Olé ! \n3 euros l’entrée
URL:https://mjc-mosaique.fr/event/soiree-espagnole/
LOCATION:Centre socioculturel Jean HARTMANN\, 59 Av. du Général de Gaulle\, Pompey\, 54340\, France
CATEGORIES:CULTURE
END:VEVENT
END:VCALENDAR